BEGIN:VCALENDAR
VERSION:2.0
PRODID:spatie/icalendar-generator
DESCRIPTION:千鳥 UTSUWA GALLERYのイベント
X-WR-CALDESC:千鳥 UTSUWA GALLERYのイベント
REFRESH-INTERVAL;VALUE=DURATION:PT1440M
X-PUBLISHED-TTL:PT1440M
BEGIN:VTIMEZONE
TZID:Asia/Tokyo
BEGIN:STANDARD
DTSTART:20241017T000000Z
TZOFFSETFROM:+0900
TZOFFSETTO:+0900
END:STANDARD
END:VTIMEZONE
BEGIN:VTIMEZONE
TZID:UTC
BEGIN:STANDARD
DTSTART:20250726T091135Z
TZOFFSETFROM:+0000
TZOFFSETTO:+0000
END:STANDARD
END:VTIMEZONE
BEGIN:VEVENT
UID:911-864
DTSTAMP:20260422T091135Z
SUMMARY:常設展示
LOCATION:
ORGANIZER;CN=chidori:MAILTO:mail@chidori.info
DTSTART;TZID=Asia/Tokyo:20250714T000000
DTEND;TZID=Asia/Tokyo:20250717T010000
X-ALT-DESC;FMTTYPE=TEXT/HTML:
CATEGORIES:12:00-18:00
URL;VALUE=URI:https://chidori.info/home/?mc_id=911&#038;vcal=911
METHOD:PUBLISH
END:VEVENT
END:VCALENDAR